BEGIN:VCALENDAR
METHOD:PUBLISH
VERSION:2.0
PRODID:-//Eventilla iCal Syndication//NONSGML Liana//EN
BEGIN:VEVENT
UID:00qP8@eventilla.com
DTSTAMP:20231205T063000Z
DTSTART:20231205T063000Z
DTEND:20231205T070000Z
SUMMARY:Webinaari: Kyllä se pidemmän päälle alkaa kantaa hedelmää
DESCRIPTION:Tarjolla tuoreita eväitä ja oppeja monikulttuurisen työyhteisön johtamiseen ja kansainvälisten työntekijöiden rekrytointiin\nMiten johtaa monikulttuurista työyhteisöä? Millaisia haasteita yritykset kohtaavat? Mitkä asiat tuottavat onnistumisen kokemuksia ja millaisia hyötyjä ulkomaalainen työntekijä tuo yritykselle ja työyhteisölle? Miten ottaa ensimmäiset askeleet kansainvälisten työntekijöiden rekrytoinnissa?\nTule kuulolle\, kun Satu Kuntola esittelee juuri valmistuneen Pro gradu -tutkielmansa tuloksia Teamsin kautta toteutettavassa webinaarissa. Tutkielmassaan Satu selvitti\, miten eteläpohjalaisten yritysten tulevaisuuden kasvua voitaisiin edistää kansainvälisten osaajien avulla. Luvassa hyviä esimerkkejä ja käytännönkokemuksia aiheesta.\nIlmoittaudu alta mukaan tähän mielenkiintoiseen 30 min tietoiskuwebinaariin!\nIlmoittaudu >>\nSatu Kuntola\n\nSatu Kuntola opiskelee Vaasan yliopistossa kauppatieteitä henkilöstöjohtamisen maisteriohjelmassa. Hän on asunut vuosia ulkomailla ja työskennellyt kansainvälisessä työympäristössä.\nJuuri valmistunut Pro gradu -tutkielma kantaa nimeä ”Kyllä se pidemmän päälle alkaa kantaa hedelmää” Monikulttuurisuuden implementointi henkilöstöjohtamisessa. Tulokset tarjoavat tietoa monikulttuurisen organisaation johtamisesta Suomessa vastaten seuraaviin kysymyksiin:\n\nmiten monikulttuurista johtamista organisaatiossa voidaan edistää\nmitä haasteita organisaatio kohtaa kansainvälisten osaajien työllistämisen myötä\nmiten organisaatio hyötyy monikulttuurisuudesta\n\nOsana tutkielmaa Satu on haastatellut yhdeksää eri alojen HR-asiantuntijaa ja esihenkilöä monikulttuurisista organisaatioista.
LOCATION:Verkossa (Teams)
URL:http://tapahtumat.intoseinajoki.fi/kohti_monikulttuurista_tyoyhteisoa
END:VEVENT
END:VCALENDAR
