BEGIN:VCALENDAR
METHOD:PUBLISH
VERSION:2.0
PRODID:-//Eventilla iCal Syndication//NONSGML Liana//EN
BEGIN:VEVENT
UID:9kvvR@eventilla.com
DTSTAMP:20240411T050000Z
DTSTART:20240411T050000Z
DTEND:20240411T070000Z
SUMMARY:Into BB: Lakeuksilta globaaliksi kasvajaksi?
DESCRIPTION:Miten digitaalisuus mahdollistaa kasvun? \nTule kuulemaan Pohjoismaisia menestystarinoita digitaalisen kaupan kovimmista kasvajista! Lisäksi saat konkreettisia vinkkejä yrityksesi menestyksen tueksi. \nToimitpa sitten teollisuuden tai vähittäismyynnin verkkokaupan parissa ja ovatpa asiakkaasi yrityksiä tai yksityishenkilöitä\, tämä tapahtuma tarjoaa sinulle konkreettisia vinkkejä digitaalisuuteen!\nNyt sinulla on upea mahdollisuus oppia lisää digitalisaation hyödyntämisestä eri toimialoilla sekä sen luomista mahdollisuuksista. Samalla pääset verkostoitumaan muiden kasvusta kiinnostuneiden kanssa. Ehkä löydät tapahtumasta kumppanin kasvuun tai uuden asiakkaan? \nRyhmäkeskustelu: Kurkistus kaupanalan tulevaisuuden näkymiin ja haasteisiin. Keskustelua ajankohtaisista yrityksiä askarruttavista aiheista sekä Arhin vinkkejä tulevaan. Ryhmäkeskusteluun pääsee 15 henkilöä. Ilmoittaudu mukaan nopeasti ja varaa paikkasi. Ilmoittautumisen yhteydessä voit jättää ennakkoon kysymyksiä ryhmäkeskustelua varten.\n \nOhjelma\n8:00 Aamiainen ja verkostoituminen\n8:30 Arhi Kivilahti – Digitaalisen kaupan kovimmat kasvajat Pohjoismaissa\n\nMenestystarinoita; verkkokaupan voittokulku pienestä globaaliksi. \n\n9:10 Kysymyksiä ja verkostoitumista\n9:20 Arhi Kivilahti – Avaimet kasvuun \n\nTarjolla konkreettisia kasvuvinkkejä \n\n10:00 Tilaisuuden yhteinen osuus päättyy\n10:30 Ryhmäkeskustelu (Kokoustila Swingi Frami B-talo)\n11:30 Ryhmäkeskustelu päättyy\n \nPuhujaesittely\nArhi Kivilahti\, Ada Insights\n\n\n\n\nArhi on katsonut kauppaa monesta eri näkökulmasta. Alkuun tutkijana Aalto-yliopistossa ja vierailevana tutkijana Oxfordin yliopistossa. Väiteltyään ruoan verkkokaupan kehityksestä Englannissa\, hän siirtyi konsultiksi Solitalle. Tämän jälkeen hän on ollut Keskolla kehitysjohtajana kehittämässä ruoan verkkokauppaa ja sittemmin yrittäjänä perustamassa Suomen nopeinta ruoan verkkokauppaa Ada Freshiä.Viimeiset viisi vuotta hän on toiminut itsenäisenä kaupan konsulttina sekä analyytikkona. Hän seuraa kaupan alan kehitystä eri maissa ja työskentelee erilaisten yritysten kanssa kaupan arvoketjussa.\n\n\n\n \n \nAamiainen\nTapahtumassa tarjolla herkullinen aamiainen. \n\nTäytettyjä minicroissantteja kinkku-kasvistäytteellä\nBroilerpiirakkaa paholaisenhillolla\nMustikka chia-pudding\nTurkkilaista jogurttia\, granolaa ja vadelmaa\nMangosmoothieta\nKahvia/teetä ja puolukka-kinuskibritaa\n\n \nIlmoittautuminen \nValitse alla olevista vaihtoehdoista mieluisampi. Mikäli haluat osallistua aamiaiselle ja Arhin puheenvuoroihin\, valitse lipuksi "Osallistuminen Into BB". Kun haluat hyödyntää koko tapahtuman ja osallistua aamiaisen sekä puheevuorojen lisäksi myös ryhmäkeskusteluun\, valitse lippu "Osallistuminen Into BB + ryhmäkeskustelu". 
LOCATION:Ravintola Treffi (Frami D-talo)\, Tiedekatu 2\, 60320\,
 Seinäjoki
URL:http://tapahtumat.intoseinajoki.fi/lakeuksilta_globaaliksi_kasvajaksi
END:VEVENT
END:VCALENDAR
