BEGIN:VCALENDAR
METHOD:PUBLISH
VERSION:2.0
PRODID:-//Eventilla iCal Syndication//NONSGML Liana//EN
BEGIN:VEVENT
UID:AXq4b@eventilla.com
DTSTAMP:20250204T070000Z
DTSTART:20250204T070000Z
DTEND:20250204T110000Z
SUMMARY:EU-rahoitukset tutuksi!
DESCRIPTION:Tiesitkö\, että yrityksesi voisi hakea EU-rahoitusta?\nTervetuloa sukeltamaan EU-rahoitusten maailmaan!\nEU rahoittaa monella eri tavalla yritysten tutkimus- ja kehitystyötä. Tässä tilaisuudessa tehdään tutuksi erityisesti elintarviketeollisuudelle ja valmistavalle teollisuudelle sopivia EU:n tutkimus- ja kehitysrahoituksia ja keinoja rahoitusten hyödyntämiseen. \nJos yrityksenne tavoitteena on esimerkiksi…\n\nkehittää uutta teknologiaa\nottaa käyttöön uusia digitaalisia palveluita tai sovelluksia\ntehdä toiminnastanne entistä vastuullisempaa\nkasvaa\nkansainvälistyä\n\n…voivat erilaiset EU-rahoitukset olla juuri oikea tuki matkalla tavoitteeseen. \nKeskitymme helmikuun tilaisuudessa EU-rahoituksen ja verkostojen tutuksi tekemiseen. Kuulemme myös rahoitusohjelmia hyödyntäneiden yritysten tarinoita. Osallistuneiden kesken mietimme myös jatkoa ja tarvittavaa tukea\, jotta rahoituksia päästään konkreettisesti hakemaan. \nHuom! Tapahtuma on siirretty suuren suosion vuoksi kokoustila Megaan\, Frami D-rakennukseen.\n \nOhjelma \n 9.00 Aamukahvit  \n9.30 Tervetuloa / Hanna Holtinkoski\, Into Seinäjoki ja Satu Alapiha\, EEN \n9.45 Business Finlandin EU-rahoitusneuvonta tutuksi / Emmi Nahi \n\nHorisontti Eurooppa\, erityisesti digitaalitalouteen ja teknologiaan\, teollisuuteen\, elintarvikkeisiin\, biotalouteen\, luonnonvaroihin\, maatalouteen ja ympäristöön liittyvät rahoitukset \nEureka\, kansainvälistyville\, teknologiaansa kehittäville pk-yrityksille\, joille yhteistyön nopea käynnistyminen on tärkeää\nEIC Accelerator\, alkavien ja voimakkaan kasvuvaiheen kynnyksellä olevien pk-yritysten innovaatioiden kehittäminen ja skaalaaminen \n\n10:30 Yritykset rahoitusten hyödyntäjinä\n\nPesmel Oy ja Horisontti Eurooppa -rahoitteinen DaCapo-projekti / Eero Anttila\, Manager\, Material Flow Integration \nLekatech Oy ja EIC Accelerator -rahoitus / Antti Anttila\, CEO\n\n10.45 Miten löytää oikeat kumppanit?  \n\nSuomalaisen tutkimuslaitoksen tai korkeakoulun mukana\n\nVTT\, Business Development Manager Mirva Lampinen\nSeinäjoen yliopistokeskus\, johtaja Olli-Pekka Viinamäki \nSeAMK\, TKI-päällikkö Karri Kallio \n\n\n\n11:45 Yhteistyössä osaavan konsultin kanssa\, Spinverse\, liiketoiminnan kehityspäällikkö Janne Kaukojärvi \n 12.05 Miten löytää hankekumppani / EEN konsortion rakentajana\, Satu Alapiha \n12.15 Kuinka tästä eteenpäin?\n12.30 Lounas (omakustanteinen)\nOsallistujien on mahdollista varata kahdenkeskinen tapaaminen haluamansa puhujan kanssa yhteisen osion jälkeen. Tahot\, joiden kanssa keskusteluja pääsee jatkamaan: \n\nBusiness Finland\nVTT\nYliopistokeskus\nSeamk\nSpinverse \nEEN \n\n \nPuhujat \nJanne Kaukojärvi on Spinversen liiketoiminnan kehityspäällikkö. Hänellä on 9 vuoden kokemus EU-rahoitusohjelmista ja yritysten konsultoinnista ja sparraamisesta hakuprosesseissa sekä projektipäällikkönä toimimisesta. Janne on työskennellyt erityisesti uusiutuvaan energiaan\, cleantechiin ja biotalouteen liittyvien hankkeiden parissa.  \nKarri Kallio on Seinäjoen ammattikorkeakoulun TKI-päällikkö Kestävien ruokaratkaisujen teemassa. Karri on aktiivisesti hakenut SeAMKille kansainvälisiä verkostoja ja kumppanuuksia\, joiden kautta on päästy mukaan moniin EU-rahoituksiin.  \nMirva Lampinen on VTT:n liiketoiminnan kehityspäällikkö\, joka on Keskittynyt työssään kehittämään tutkimuksesta menestyvää liiketoimintaa. Hän on johtanut Food and Beyond innovaatio -alustaa\, joka on toteuttanut useita vaikuttavia hankkeita\, mukaan lukien EIT Food -kiihdytysohjelman ruoka-alan startup yrityksille\, jota hän johti yli viisi vuotta.  \nOlli-Pekka Viinamäki toimii Seinäjoen yliopistokeskuksen johtajana ja hänellä on monipuolinen kokemus TKI-toimista ja koulutuskentästä. Yliopistokeskus tarjoaa yrityksille kanavia viiden yliopiston TKI-toimiin\, innovaatioalustoihin ja TKI-yhteistyöhön sekä liiketoimintansa ja tuotekehityksen uudistamiseen.    
LOCATION:Kokoustila Mega, Frami D, 1.krs\, Tiedekatu 2\, 60320\,
 Seinäjoki
URL:http://tapahtumat.intoseinajoki.fi/eurahoitus
END:VEVENT
END:VCALENDAR
