BEGIN:VCALENDAR
METHOD:PUBLISH
VERSION:2.0
PRODID:-//Eventilla iCal Syndication//NONSGML Liana//EN
BEGIN:VEVENT
UID:Bgy1v@eventilla.com
DTSTAMP:20250219T094500Z
DTSTART:20250219T094500Z
DTEND:20250219T114500Z
SUMMARY:After Lunch Skaalaamolla - Uutta tietoa ja kasvua luomassa
DESCRIPTION:Sanotaan\, että yliopistokaupungeissa on eniten kasvuyrityksiä ja kova startup-pöhinä. Mitäs sitten Seinäjoki\, kun meillähän on täällä 4+1 yliopistoa? Korkeakoulut ja tutkimus tukevat yrityksen tuotekehitystä ja kasvua\, mutta miten se OIKEASTI tapahtuu?\n \nYliopistot tukevat Seinäjoen alueen yrityksiä mitä erilaisin tavoin. Tiedätkö sä jo miten?\nNo\, on kehittämishankkeita\, tutkimusta ja ihan konkreettisia kehitysalustoja. Mutta mitä ne tarkoittavat uutta ideaan hiovan tai kasvuhenkisen yrittäjän näkökulmasta?\nEi hätää\, kutsuimme Sami Kurjen kertomaan miten yliopistojen asiantuntijuus voidaan valjastaa yritysten kasvun tueksi.\nFAKTA:\nSeinäjoen yliopistokeskus on neljän yliopiston muodostama verkostomaisesti toimiva 80 asiantuntijan monitieteinen yhteisö. Yliopistokeskuksessa toimivat Tampereen yliopisto\, Helsingin yliopisto\, Vaasan yliopisto ja Taideyliopisto. Yhteistyökumppaneina ovat myös Turun yliopisto sekä Etelä-Pohjanmaan korkeakouluyhdistys (Epky).\n \nTilaisuuden ohjelma:\n11.45 – 12.30 Lounas (omakustanteinen) ja verkostoitumista Rytmikorjaamon Varicko-ravintolassa.\nAloitamme keskustelut lounaalla ja mahdollisuudella verkostoitua muiden yritysten ja paikallisten toimijoiden kanssa. Tilaisuus luoda uusia kontakteja ja vaihtaa ajatuksia kollegoiden kanssa.\n12.30 Startti Skaalaamolla - tervetulosanat\n12.40 Miten yliopistot voivat olla yritysten kasvun tukena? - Sami Kurki\, Helsingin yliopiston Ruralia-instituutti / Seinäjoen Yliopistokeskus\n13.25 – 13.45 Kysymyksiä ja keskustelua\nTilaisuuden päätteeksi on mahdollisuus verkostoitua muiden osallistujien kanssa.
LOCATION:Skaalaamo, Rytmikorjaamo\, Vaasantie 11\, 60100\, Seinäjoki
URL:http://tapahtumat.intoseinajoki.fi/afterlunchyliopistot
END:VEVENT
END:VCALENDAR
