BEGIN:VCALENDAR
METHOD:PUBLISH
VERSION:2.0
PRODID:-//Eventilla iCal Syndication//NONSGML Liana//EN
BEGIN:VEVENT
UID:KoGqo@eventilla.com
DTSTAMP:20251121T150000Z
DTSTART:20251121T150000Z
DTEND:20251121T170000Z
SUMMARY:Seinäjoen joulunavaus
DESCRIPTION:Lämpimästi tervetuloa Seinäjoen joulunavaukseen perjantaina 21.11.2025 klo 17–19 Keskustorille! ❄️🎄✨\nLuvassa on mm. kotieläimiä\, esityksiä\, jouluista tunnelmaa\, sekä tietysti joulupukki! \n🏼 Tapahtumaan on vapaa pääsy. \nLAVAOHJELMA:klo 17.30 Tapahtuman avausSeinäjoen kaupungin joulutervehdys\, Jaakko KiiskiläSeinäjoen Seurakunnan joulutervehdys\, Laura Launialaklo 18.00 Tanssikoulu Wimmaklo 18.15 Joulupukki lavallaklo 18.30 Tanssikoulu Wimmaklo 19.00 Tapahtuma päättyy\nOHEISOHJELMA:klo 17-19 Joulutori\, jossa myynnissä mm. riisipuuroa\, glögiä\, metrilakuja sekä jouluisia herkkuja kotiin viemisiksi. Lions Club Aalto ry myymässä suolaisia ja makeita leivonnaisia ja muita jouluisia tuotteita jo klo 12 alkaen.klo 17-19 Rapsuteltavia eläimiä: poni\, lampaita ja pupujaklo 17-19 Joulupukki ja tontut kiertävän tapahtuma-alueella\n🚌 Tapahtumapäivänä 21.11. klo 16 alkaen ilmainen paikallisliikenne! Normaalien perjantaivuorojen klo 19 jälkeen lisävuorot lauantaivuorojen mukaisesti eli: 1L klo 20.15\, 4L klo 19.45\, 6 klo 19.45 & klo 20.45 sekä 8L klo 19.45 & klo 20.45. Ilmaiset bussit ja lisävuorot mahdollistavat Seipark ja Into Seinäjoki. \nKeskustayrittäjä! Haluatko näkyvyyttä joulunavauksen yhteydessä? Tägää instagramissa: @seinajoenkeskustassatapahtuu ja lähetä aineisto Johannalle Intoon\, johanna.rintamaki@intoseinajoki.fi\n \nTapahtuman järjestää Into Seinäjoki Oy\, tuotannosta vastaavat Seamkin kulttuurituotannon opiskelijat Marja Laitinen ja Tuulia Pulkamo. \n\n 
LOCATION:Keskustori\, Kalevankatu 7\, 60100\, Seinäjoki
URL:http://tapahtumat.intoseinajoki.fi/joulunavaus2025
END:VEVENT
END:VCALENDAR
