BEGIN:VCALENDAR
METHOD:PUBLISH
VERSION:2.0
PRODID:-//Eventilla iCal Syndication//NONSGML Liana//EN
BEGIN:VEVENT
UID:OlQO6@eventilla.com
DTSTAMP:20230823T050000Z
DTSTART:20230823T050000Z
DTEND:20230823T061500Z
SUMMARY:Into BB: Tekoäly – yrittäjän paras kaveri vai pahin uhka?
DESCRIPTION:Tekoäly muuttaa jokaisen yrittäjän ja näppäimistöllä töitä tekevän työnkuvaa takuuvarmasti. Nyt siis viimeistään kannattaa ottaa selvää\, mistä tässä työelämän mullistajassa on kyse!\nSyksyn ensimmäinen Into Business Breakfast -aamupalatilaisuus pureutuu tekoälyn maailmaan. Puhujavieraaksemme saamme neljä tietokirjaakin aiheesta kirjoittaneen\, kokeneen kouluttaja Immo Salon Bonairolta.\nAamiaisen lomassa pääset verkostoitumaan toisten yrittäjien kanssa ja saat vastauksia mm. seuraaviin kysymyksiin:\n\nMitä tekoäly tarkoittaa ja mikä paljon puhuttu ChatGPT on?\nMiten tekoäly tulee muuttamaan yrittäjyyttä ja työntekoa? Mitkä ovat sen mahdollisuudet ja riskit?\nKuinka tekoäly voi käytännössä parantaa tehokkuutta ja tuottavuutta sekä luoda yritykselle kilpailuetua?\n\nTapahtuma on TÄYNNÄ. Voit tiedustella mahdollisia vapautuvia paikkoja helmi.yli-knuuttila@intoseinajoki.fi tai ilmoittautua jonotuslistalle sivun alareunasta.\n \nOHJELMA\n8:00   Verkostoitumista aamupalan lomassa\n8:30   Tekoäly – yrittäjän paras kaveri vai pahin uhka? / Immo Salo\, Bonairo Oy\n9:15   Tilaisuus päättyy\n9:30 - 11:00 TYÖPAJA: ChatGPT yrittäjän työkaluna / Immo Salo\, Bonairo Oy\nTarjoamme 20 nopeimmalle osallistujalle ainutlaatuisen mahdollisuuden päästä käytännössä kokeilemaan ja oppimaan asiantuntijan johdolla ChatGPT:n käyttöä.\nTyöpaja järjestetään heti Into BB:n jälkeen klo 9:30-11:00 Rytmikorjaamolla.\nTilaisuuden aikana sinulla on myös mahdollisuus testailla VR-lasien kautta VIBIOL-hankkeen aikana luotua\, vielä pilottivaiheessa olevaa\, virtuaalista tapahtuma-alustaa\, jota metaverseksikin kutsutaan.\nAAMIAINEN\nAamiaiskahvit keittelee ravintola Varicko. Aamiainen sisältää seuraavaa:\nTäytetty croissant lMarjasmoothie l\, gTuoremehu\, vesiTalon suklaakakku & marjamelba lKahvi\, tee\nPUHUJA\nImmo Salo\, toimitusjohtaja\, Bonairo Oy\n\n\n\n\nImmo Salolla on yli 20 vuoden koulutuskokemus digitalisaatioon liittyvistä aiheista. Salo on myös kirjoittanut 4 tietokirjaa liittyen tekoälyyn\, big dataan\, pilvipalveluihin ja analytiikkaan. Syksyllä 2023 ilmestyvä viides kirja kertoo luovasta tekoälystä ja ChatGPT:stä. Lisäksi hän on ollut sarjayrittäjänä vuodesta 2006 asti.\n\n\n\n 
LOCATION:Ravintola Varicko, Rytmikorjaamo\, Vaasantie 11\, 60100\,
 Seinäjoki
URL:http://tapahtumat.intoseinajoki.fi/tekoalytyoparina
END:VEVENT
END:VCALENDAR
