BEGIN:VCALENDAR
METHOD:PUBLISH
VERSION:2.0
PRODID:-//Eventilla iCal Syndication//NONSGML Liana//EN
BEGIN:VEVENT
UID:VDQdW@eventilla.com
DTSTAMP:20230309T150000Z
DTSTART:20230309T150000Z
DTEND:20230309T173000Z
SUMMARY:Yrityskaupat Speed Date
DESCRIPTION:Oletko pohtinut yrityksesi myymistä tai etsinyt ostajaa/jatkajaa toiminnallesi? Oletko kiinnostunut mahdollisuudesta lähteä yrittäjäksi tai hakea kasvua yrityskaupan kautta? Tätä tapahtumaa sun ei kannata jättää väliin!\nMaaliskuussa nimittäin deittaillaan aivan uudenlaisella näkökulmalla\, taka-ajatuksena potentiaaliset yrityskaupat!\nMyyntimielessä pääset kohtaamaan yrittäjyydestä kiinnostuneita nuoria ja ostomielessä taas kuulemaan\, millaiset yritykset etsivät jatkajaa toiminnalleen ja millaisia mahdollisuuksia myynnissä olevissa yrityksissä piilee.\nKenelle tapahtuma on tarkoitettu?\nKaikille yrityksen myynnistä ja yritysostosta kiinnostuneille. Tapahtuma tarjoaa myös yleisesti yrittäjyydestä kiinnostuneille loistavan mahdollisuuden tutustua ”ostamalla yrittäjäksi” -ajatukseen.\nMissä ja milloin deittaillaan?\nRavintola Varickon tiloissa\, Rytmikorjaamolla to 9.3.2023 klo 17 alkaen.\nMiten deittailu tapahtuu? Mitä tapahtuman ohjelmaan sisältyy?\nUudessa tapahtumassa jokainen yritystään myyvä pääsee kertomaan yrityksestään erikseen jokaiselle paikalla olevalle ostajaehdokkaalle. Näin toteuttamalla hyvät ja mielenkiintoiset yritykset tulevat esitellyiksi niillekin\, jotka muutoin saattaisivat pelkän toimialan tai mielikuvan perusteella ohittaa yrityksen. Yritystään myyvät saavat tilaisuudessa pienen ständipaikan\, joilla ostajaehdokkaat ja yrittäjyydestä kiinnostuneet kiertävät.\nLiisa ja Arttu Seppälä\nTapahtumassa kuulet yrityskauppoja tukevista palveluista; mistä saat apua omistajanvaihdokseen ja mitä bisneksen ostajan tulee muistaa. Lisäksi pääset kuulemaan tarinan Pöyröistä – pohjalaisesta huumoristaan\, itsevarmuudestaan\, hyväntuulisuudestaan ja viihdyttävyydestään tunnetusta sarjakuvasta. Liisa ja Arttu Seppälä kertovat miksi ja kuinka yrittäjyys sarjakuva-alalla sai alkunsa. Miten kaikki luotiin tyhjästä\, kun ala oli vieras eikä vastaavaa toimijaa ollut.\nOhjelma\n17.00 Tervetulosanat\n17.05 Mistä apua omistajanvaihdokseen? | Jorma Ranta\, Etelä-Pohjanmaan yrittäjät\n17.10 Pöyrööt –Pohjalaissarjakuvan synty | Liisa ja Arttu Seppälä\n17.25 Bisneksen ostajan muistilista| Sari Koskela\, Suomen Yrityskaupat Oy\n17.40 Speed Date –myyjien ja potentiaalisten ostajien kohtaamiset\n18.30 Tauko; Kahvi\, tee\, Tomaatti-mozzarella focaccia & balsamicokastike\n19.00 Jälkikeskustelut ja yhteistyökumppaneiden ständeihin tutustuminen\n19.30 Tilaisuus päättyy\nTilaisuus on maksuton. Osallistujille on tarjolla suolaista iltapalaa.\nIlmoittaudu mukaan!\nIlmoittaudu nopeasti\, sillä voimme ottaa mukaan vain rajallisen määrän osallistujia.
LOCATION:Ravintola Varicko, Rytmikorjaamo\, Vaasantie 11\, 60100\,
 Seinäjoki
URL:http://tapahtumat.intoseinajoki.fi/yrityskaupatspeeddate
END:VEVENT
END:VCALENDAR
