BEGIN:VCALENDAR
METHOD:PUBLISH
VERSION:2.0
PRODID:-//Eventilla iCal Syndication//NONSGML Liana//EN
BEGIN:VEVENT
UID:Xz29w@eventilla.com
DTSTAMP:20241024T143000Z
DTSTART:20241024T143000Z
DTEND:20241024T190000Z
SUMMARY:Space Pitch 2024
DESCRIPTION:Avaruuden pÃ¤Ã¤kaupungin startup-tapahtuma SPACE PITCH kokoaa lokakuussa kasvuhenkiset yrittÃ¤jyyden ykkÃ¶skaupunkiin SeinÃ¤joen Rytmikorjaamolle.\nÂ \nMitÃ¤ tÃ¤ssÃ¤ kasvuyritystapahtumassa on luvassa? Innostavan tunnelman lisÃ¤ksi luvassa on hyÃ¶dyllisiÃ¤ verkostoja ja uusia ajatuksia kasvuhakuisille yrittÃ¤jille sekÃ¤ loistavia pitchauksia startup-kisassa.\nTapahtumaan kokoontuu noin sata osallistujaa niin EtelÃ¤-Pohjanmaan alueelta kuin ympÃ¤ri Suomen verkostoitumaan kasvuhenkisten vertaistensa kesken. Tapahtumapaikkana toimii tÃ¤nÃ¤ vuonna Rytmikorjaamon Klubi.\nTÃ¤ssÃ¤ lakeuksien omassa "Leijonan luolassa" on luvassa startupien vÃ¤linen kilpailu\, jossa kokeneet leijonat/tuomarit ovat korva herkkÃ¤nÃ¤ finaaliin valittujen pitchausten Ã¤Ã¤rellÃ¤. Leijonat sparraavat liikeideoita ja valaisevat nÃ¤kemyksillÃ¤Ã¤n piilossakin olevia kehityskohteita. Vinkit auttavat myÃ¶s yleisÃ¶Ã¤ miettimÃ¤Ã¤n kehityssuuntia omalle yritystoiminnalleen.\nAiempien vuosien palautteita Space PitchistÃ¤:\n"Kiitos INTO ja intolaiset innostavasta ja inspiroivasta pitchaus-tilaisuudesta. Korkealla lentÃ¤en nÃ¤kee kauemmas. Linnunradalla tavataan."\n"Space Pitch on tapahtuma\, johon soisi kaikkien alueemme yritysten osallistuvan\, vaikka eivÃ¤t itse kisaan osallistuisikaan. Todella avartavaa kuulla muiden yritysten suunnitelmista ja tavoitteista."\nTule inspiroitumaan & yllÃ¤ttymÃ¤Ã¤n Space Pitchiin!\nHOX!! Tapahtuma on kaikille kasvuhaluisille yrityksille ja startupeille MAKSUTON. Ja kasvun kavereillekin vain 35 euroa + alv.\nTapahtuman yhteistyÃ¶kumppanina toimii EMU Growth Partners.\n\nOHJELMASSA\n\n17.30 ovet Klubille aukeavat\n\nRekisterÃ¶ityminen alkaa Klubilla\nStartupeja\, sijoittajia ja yhteistyÃ¶kumppaneita kohtauttavat etkot\, baari on auki\n\n\n18.00 Virallinen ohjelma alkaa\n\nInto SeinÃ¤joen ja EtelÃ¤pohjalaisen kasvurahaston tervehdys\nKeynote kasvuyrittÃ¤jyydestÃ¤ otsikolla "It's a Marathon\,Â  not a Sprint"\, sarjayrittÃ¤jÃ¤ Janek Balonski\, Ringo.Eco\nKiinnostavia pitchauksia finaaliin valituilta 9 yritykseltÃ¤\nYllÃ¤tysesiintyjiÃ¤ ja visuaalisia elÃ¤myksiÃ¤\nPitchauskisan voittajayrityksen ja muiden suosikkien palkitseminen\n\n\nVirallinen ohjelma pÃ¤Ã¤ttyy noin 21.30\n\nJatkot virallisen ohjelman pÃ¤Ã¤tteeksi aina 22.00 saakka\n\n\n\nPidÃ¤tÃ¤mme oikeudet ohjelmamuutoksiin.\nILLALLINEN\nIllan puolivÃ¤lissÃ¤ on tarjolla herkullinen Bao-buffet Ravintola Varickon toimesta ja kasvuhenkistÃ¤ seurustelua osallistujien kesken\n\nBao bun-sÃ¤mpylÃ¤t\, revittyÃ¤ lime-inkivÃ¤Ã¤ribroileria\, kavisvaihtoehtona seesami-valkosipulisoijaa\, seesamimarinoituja kasviksia\, pikkelÃ¶ityÃ¤ kurkkua\, wasabimajoneesia\, aiolia\, tuoreita yrttejÃ¤ (nautitaan paperitaskuista)\n\nRuokajuomana vesi tai baarista omakustanteisesti juomia\n\n\nJÃ¤lkkÃ¤riksi kahvi\, tee\, suklaakonvehti\n\n\nÂ \nAiempina vuosina tapahtuman yleisÃ¶paikat on viety viimeisiÃ¤ myÃ¶den - rekisterÃ¶idy siis mukaan NYT!\nÂ \nILLAN HOST\n\nARTTU SEPPÃ„LÃ„\nArttu SeppÃ¤lÃ¤ â€“ juontaja\, yrittÃ¤jÃ¤\, DJ ja monen muun homman hoitava monitaituri huolehtii tapahtuman houstaamisesta sekÃ¤ tunnelman luomisesta. Arttu on tottunut juontamaan erilaisia tapahtumia\, joten luvassa on ammattimainen ote rennolla asenteella maustettuna.Â \nÂ \nKEYNOTE\nÂ \n\nJANEK BALONSKI\, SARJAYRITTÃ„JÃ„ JA FOUNDER\, RINGO.ECO\nJanek Balonski on ekoteemaan pureutunut sarjayrittÃ¤jÃ¤ Virosta. Vuodesta 2005 hÃ¤n on ollut mukana kasvattamassa yrityksiÃ¤ kansainvÃ¤lisesti. Viimeiset kolme vuotta hÃ¤n on toiminut founderina ja CEOna Ringo.Ecossa\, pyÃ¶rittÃ¤en alueen suurinta puhdistuskeskusta uudelleen kÃ¤ytettÃ¤ville pakkauksille/astioille. Janek on pitkÃ¤kÃ¤yttÃ¶isten pakkausten puolestapuhuja taistellen kertakÃ¤yttÃ¶kulttuuria ja jÃ¤tekuormaa vastaan. HÃ¤n on myÃ¶s kolmen lapsen isÃ¤ ja kova sulkkisfani.\nÂ \nSTARTUP-KISAN LEIJONAT\nÂ \n\nVESA RIIHIMÃ„KI\nVesa RiihimÃ¤ki toimii Nordea Suomen kasvuyrityspankin vetÃ¤jÃ¤nÃ¤. Kasvuyrityspankki auttaa ja rahoittaa startuppeja ja kasvuyrityksiÃ¤ ja sillÃ¤ on Suomessa 2500 asiakasta joista 1600 etenee Nordean rahoituksen turvin. Kasvuyrityspankki tukee startuppeja kasvun osaamisen ja oman pÃ¤Ã¤oman verkoston suhteen. Verkostossa on pÃ¤Ã¤osa maailman suurimmasta ja aktiivisimmasta VC-rahastoista.\nÂ \nÂ \nSINI Ã\nGREN\nSini toimii Herizonilla Head of Quality & Special Projects -tehtÃ¤vissÃ¤\, huolehtien projekteista ja yhteistyÃ¶stÃ¤ eri oppilaitostahojen ja sidosryhmien kanssa. Herizon edistÃ¤Ã¤ Pohjoismaisen teknologiaekosysteemin kehitystÃ¤ kansainvÃ¤listen talenttien hyÃ¶dyntÃ¤misen kautta. LisÃ¤ksi Sini valmentaa yrittÃ¤jiÃ¤ ja tutkijoita innovaatioiden kaupallistamisessa oman yrityksensÃ¤ Focuspocus kautta. HÃ¤nellÃ¤ on taustaa erilaisista tehtÃ¤vistÃ¤ startupeissa ja vastuista startup-ekosysteemin edistÃ¤miseen tÃ¤htÃ¤Ã¤vissÃ¤ toiminnoissa\, kuten Slush.Â \nÂ \n\nJANA SAASTAMOINEN\nJana Saastamoinen on pÃ¤Ã¤organisoijana sTARTUp Day 2025 -tapahtumassa\, joka tuo yhteen 3500+ osallistujaa vuosittain startup-kaupunkina tunnettuun Tartoon. Aikaisemmin hÃ¤n on organisoinut yrittÃ¤jyysohjelmia\, ideavaiheesta startupeiksi Virossa\, Tanskassa\, Ukrainassa ja Moldovassa mentoroiden tusinoittain alkuvaiheen tiimejÃ¤ markkinoinnissa. Jana on myÃ¶s Cannes Lions 2023 festivaaleilla palkittu markkinoija.\nÂ \n\nFREDRIK WIDENÃ„S\nFredrik WidenÃ¤s on kokenut liiketoiminnan kehittÃ¤jÃ¤ ja kasvustrategioiden sparraaja\, joka on erikoistunut myynnin\, asiakkuuksien ja tiimien johtamiseen niin Suomessa kuin Pohjoismaissa. HÃ¤nellÃ¤ on laaja kokemus strategisesta kumppanuuksien rakentamisesta ja liiketoiminnan laajentamisesta uusille markkinoille. Fredrikin johtamana myynti on ottanut parissa vuodessa jopa 450 % kasvuharppauksia. HÃ¤n on ollut keskeisessÃ¤ roolissa organisaatioiden kulttuurin uudistamisessa\, asiakaskeskeisten ratkaisujen toteuttamisessa sekÃ¤ tietotekniikan diblomi-insinÃ¶Ã¶rinÃ¤ myÃ¶s digitaalisten tyÃ¶kalujen integroinnissa. Fredrikin intohimo on viedÃ¤ organisaatioita seuraavalle tasolle keskittymÃ¤llÃ¤ ihmislÃ¤htÃ¶isiin ratkaisuihin ja innovaatioihin.
LOCATION:Rytmikorjaamo\, Vaasantie 11\, 60100\, SeinÃ¤joki
URL:http://tapahtumat.intoseinajoki.fi/spacepitch2024
END:VEVENT
END:VCALENDAR
