BEGIN:VCALENDAR
METHOD:PUBLISH
VERSION:2.0
PRODID:-//Eventilla iCal Syndication//NONSGML Liana//EN
BEGIN:VEVENT
UID:jwvL5@eventilla.com
DTSTAMP:20220201T063000Z
DTSTART:20220201T063000Z
DTEND:20220201T073000Z
SUMMARY:Yrityksen verkkosivut - miksi ja miten?
DESCRIPTION:Miksi yrityksellä kannattaa olla verkkosivut ja miten niitä voi hyödyntää yrityksen markkinoinnissa? Pelkät sosiaalisen median kanavat eivät enää riitä.\nOnko yritykselläsi verkkosivut\, mutta niitä ei hyödynnetä yrityksen markkinoinnissa millään tavalla? Tai eikö yritykselläsi ole verkkosivuja\, koska koko aiheeseen on liian vaikea tarttua?\nVerkkosivut ovat tänä päivänä kaiken digimarkkinoinnin “koti” ja siten elintärkeä elementti yrityksen markkinoinnissa ja löydettävyydessä. Tämän tapahtuman tarkoituksena on auttaa sinua lähestymään verkkosivujen maailmaa ja tutustumaan\, miten verkkosivut voivat olla hyödyksi sinun yrityksellesi.\nSaat tapahtuman kautta vastauksia mm. seuraaviin kysymyksiin. Mitkä asiat vaikuttavat verkkosivujen tekemisen hintaan? Miten otat yrityksen verkkosivut aktiiviseksi osaksi yrityksen markkinointia? Miksi pelkät sosiaalisen median kanavat eivät riitä?\nTämän tapahtuman jälkeen sinulla on käsitys mikä on yrityksesi tilanteessa paras etenemisratkaisu verkkosivujen suhteen.\nKouluttajana yleisosuudessa ja työpajassa toimii vahvan verkkosivutuotannon ja markkinoinnin kokemuksen omaava Taru Salokangas. (kts. esittely ja sisältötiedot alta)\nTilaisuus ja työpaja ovat maksuttomia. Tilaisuus järjestetään verkossa kulloinkin voimassa olevien rajoitusten mukaan. Yleisestä osuudesta tuotetaan tallenne.\nHUOM. TYÖPAJA SIIRTYY MYÖHEMPÄÄN AJANKOHTAAN. (edit 30.1.2022) Työpajaan mahtuu 10 ensimmäistä\, varaa paikkasi! Työpaja toteutetaan fyysisenä tapahtumana Siru & Bitti -kokoustilassa\, osoitteessa Frami D\, Tiedekatu 2\, 60320 Seinäjoki.\n \nILMOITTAUDU NYT >>\n \nTapahtuman sisältö verkossa: (klo 8.30-9.30)\nMiksi yrityksellä kannattaa olla verkkosivut?● Miksi pelkät sosiaalisen median kanavat eivät riitä?● Miten verkkosivut vaikuttavat verkosta löytymiseen?\nMiten verkkosivuja ostetaan tai tehdään?● Miten verkkosivuja nykyään tehdään? Eri verkkosivualustojen lyhyet esittelyt.● Mitkä asiat vaikuttavat verkkosivujen tekemisessä tuotannon hintaan?● Missä tilanteessa verkkosivujen tekeminen itse on kannattavaa?\nMiten verkkosivuja voidaan hyödyntää yrityksen markkinoinnissa?● Asiakaspalvelu: Sivujen ylläpito● Löydettävyys: Hakukoneoptimointi● Uusia asiakkaita: Markkinointikeinot● Extraideoita: Verkkosivut taipuvat moneen käyttötarkoitukseen\n \nTyöpajan sisältö: (UUSI AJANKOHTA ILMOITETAAN MYÖHEMMIN. Varaa paikka ilmoittautumisen yhteydessä\, OMA LÄPPÄRI MUKAAN!)\nTYÖPAJA järjestetään fyysisenä tapahtumana\, kesto 2h.\nTyöpaja on sinulle\, joka haluat aloittaa verkkosivujen tekemisen Squarespacella tuetusti. Tai jos sinulla on jo verkkosivu olemassa Squarespacella\, joka kaipaa kehitystä.\nTyöpajassa aloitetaan verkkosivun tekeminen Squarespace-alustalla yhdessä ja voit edistää sivuja niin paljon kuin työpajan puitteissa ennätät. Taru ohjeistaa sivujen tekoa\, on tukena sinulle mahdollisissa pulmatilanteissa ja antaa selkeät ohjeet miten edetä kun jatkat sivuston rakentamista tai kehittämistä työpajan jälkeen.\nValitse ilmoittautumisen yhteydessä\, jos paikan työpajasta! Mukaan mahtuu 10 ensimmäistä. Työpajaan ilmoittautuneet saavat Tarulta muutamia valmistautumisohjeita jo ennen tapahtumapäivää. Huom. OMA LÄPPÄRI MUKAAN!
LOCATION:Verkkototeutus (työpaja peruttu ja siirretään)
URL:http://tapahtumat.intoseinajoki.fi/verkkosivut
END:VEVENT
END:VCALENDAR
