BEGIN:VCALENDAR
METHOD:PUBLISH
VERSION:2.0
PRODID:-//Eventilla iCal Syndication//NONSGML Liana//EN
BEGIN:VEVENT
UID:kNYNY@eventilla.com
DTSTAMP:20231010T133000Z
DTSTART:20231010T133000Z
DTEND:20231010T150000Z
SUMMARY:Opi miten hyödyntää tekoälyä markkinoinnissa
DESCRIPTION:Eikö sinulla ole tarpeeksi aikaa tai rahaa panostaa yrityksesi markkinointiin? Tai kaipaatko lisäkäsiä sen tekemiseen? Tiesitkö\, että tekoälystä voit saada oivan työparin markkinoinnin tekemiseen? \nTule mukaan oppimaan tekoälyn mahdollisuuksista markkinoinnissa konkreettisin esimerkein. Lisäksi 20 nopeimmalle tarjoamme paikan työpajaan\, jossa syvennytään erityisesti tekoälyn hyödyntämiseen hakukoneoptimoinnissa.\nTilaisuuteen saamme puhujaksi digimarkkinoinnin asiantuntija\, Suomen ensimmäisen tekoälymarkkinointitoimiston perustajan Oskari Ilomäen AIHIO Digital Oy -yrityksestä.\n\nTapahtuma toteutetaan yhteistyössä Seinäjoen yrittäjien\, AIHIO Digitalin sekä Into Seinäjoen kanssa.\nIlmoittaudu tästä\nAikataulu ja ohjelma\n16:30 Opi miten hyödyntää tekoälyä markkinoinnissa\nOsa 1: Johdanto tekoälyyn markkinoinnissa\nOsa 2: Mitä kaikkea tekoälyllä voi tehdä?\nOsa 3: Tekoäly markkinointikanavissa\n\n\n\nnettisivujen ulkoasu\nhakusanamainonta\nhakukoneoptimointi\nsosiaalinen media\n\n\n\n17:30 Kahvit ja verkostoitumista\n18:00-19:30 Työpaja: Miten saat verkkosivustosi löytymään Googlesta?\nTyöpajassa käydään konkreettisesti läpi\, miten hakukoneoptimointi onnistuu tekoälyn avulla.Työpajassa pääset kokeilemaan tekoälyä oman yrityksesi verkkosivuston / verkkokaupan hakukoneoptimointia. Ota oma läppäri mukaan.
LOCATION:Café Treffi, Frami D\, Tiedekatu 2\, 60320\, Seinäjoki
URL:http://tapahtumat.intoseinajoki.fi/event/kNYNY
END:VEVENT
END:VCALENDAR
