BEGIN:VCALENDAR
METHOD:PUBLISH
VERSION:2.0
PRODID:-//Eventilla iCal Syndication//NONSGML Liana//EN
BEGIN:VEVENT
UID:n6WlL@eventilla.com
DTSTAMP:20200429T100000Z
DTSTART:20200429T100000Z
DTEND:20200429T110000Z
SUMMARY:Hyödynnä paikallisten yritysten apu kriisistä selviytymiseen
DESCRIPTION:Tervetuloa Inton virtuaaliseen kohtaamispaikkaan keskiviikkona 29.4.!\nMukana on viisi eri alan yrittäjää\, jotka antavat parhaat vinkkinsä koronakriisistä selviytymiseen ja kertovat\, miten voisivat olla apuna sinulle. Lisäksi pääset kysymään ja keskustelemaan muiden samassa tilanteessa olevien kanssa mieltäsi askarruttavista aiheista. Teemoina ovat mm. markkinointi\, myynti\, henkinen hyvinvointi ja toimitusketjut.\nNyt jos koska on aika tarttua tarjolla olevaan apuun ja lähteä verkostoitumaan yrittäjäkollegoiden kanssa. Kriisin hetkellä apu saattaa olla lähempänä kuin uskotkaan.\n---\nIlmoittaudu mukaan alla olevasta linkistä. Tapahtuma järjestetään Zoomissa. Lähetämme ilmoittautuneille sähköpostitse linkin webinaarihuoneeseen lähempänä tapahtumaa.
LOCATION:Verkossa, tarvitset oman tietokoneen
URL:http://tapahtumat.intoseinajoki.fi/yrittajalta_yrittajalle
END:VEVENT
END:VCALENDAR
