BEGIN:VCALENDAR
METHOD:PUBLISH
VERSION:2.0
PRODID:-//Eventilla iCal Syndication//NONSGML Liana//EN
BEGIN:VEVENT
UID:np9J2@eventilla.com
DTSTAMP:20200430T060000Z
DTSTART:20200430T060000Z
DTEND:20200430T064500Z
SUMMARY:Talous tasapainoon
DESCRIPTION:Kriisin yli -onlinekahvila nostaa talous- ja rahoitusasiat keskustelupöydälle\nTervetuloa ensimmäiseen Kriisin yli -onlinekahvilaan torstaina 30.4.! Keskusteluaiheena on\, mitkä asiat yrityksen tulee saada kuntoon kriisin alkumetreillä.\nKuulemme talousasiantuntijan vinkit mm. oman talouden tasapainottamiseen\, tuki- ja rahoitusmuotoihin\, tuloslaskelman muodostumiseen ja siihen vaikuttamiseen. Tiiviin alustuksen jälkeen osallistujat pääsevät vapaasti keskustelemaan ja kysymään mieltä askarruttavista asioista. Tyhmiä kysymyksiä ei ole.\n\nKeskustelua alustaa Pohjanmaan ekonomitoimiston liiketoimintajohtaja Tommi Kuuppelomäki. Luvassa siis varmasti käytännönläheisiä vinkkejä koronan aiheuttamien haasteiden taklaamiseen.\nIlmoittaudu alta mukaan nyt! Tapahtuma järjestetään Zoomissa. Lähetämme ilmoittautuneille sähköpostitse linkin verkkoalustalle\, jossa onlinekahvila järjestetään.\n---\nKriisin yli -onlinekahvila\nMatalan kynnyksen Kriisin yli -onlinekahvila on avoin ja maksuton kaikille kiinnostuneille yrityksille. Kyseessä on noin kerran kuukaudessa järjestettävä vapaamuotoinen kohtaamispaikka verkossa. Ajatuksena on edistää tiedonjakoa\, tarjota tukea ja verkostoitumismahdollisuuksia yrityksille. Kahvilassa on jokaiselle kerralle oma teema\, josta lyhyesti alustaa asiantuntija. Tämän jälkeen on vapaata keskustelua.
LOCATION:Verkossa, tarvitset oman tietokoneen
URL:http://tapahtumat.intoseinajoki.fi/onlinekahvila1
END:VEVENT
END:VCALENDAR
