BEGIN:VCALENDAR
METHOD:PUBLISH
VERSION:2.0
PRODID:-//Eventilla iCal Syndication//NONSGML Liana//EN
BEGIN:VEVENT
UID:pJqOe@eventilla.com
DTSTAMP:20260210T220000Z
DTSTART:20260210T220000Z
DTEND:20260211T220000Z
SUMMARY:MARS
DESCRIPTION:Musiikkitapahtumien ammattilaistapahtuma MARS järjestetään Seinäjoen Rytmikorjaamolla jälleen 11.-12.2.2026.Keskiviikosta torstaihin 11.-12.2.2026 järjestettävä MARS-festivaali kokoaa yhteen musiikin ja musiikkitapahtumien ammattilaiset Seinäjoen Rytmikorjaamolle. MARS tarjoaa kävijöilleen kaksi päivää livealan ajankohtaisiin aiheisiin pureutuvaa puheohjelmaa sekä iltoihin sijoittuvaa\, kaikille musiikin ystäville avointa MARS Live-musiikkiohjelmaa.\nRakastettu MARS-festivaali saapuu myös Seinäjoen keskustaan! Laadukkaista ammattilaisseminaareista tunnetun MARSin iltaohjelma on jälleen kaikille avointa\, ja kaupunkilaiset pääsevätkin monipuolisen nousevan musiikin pariin eri puolilla Seinäjokea.  \nApila-kirjastolla järjestetään keikan ohella ensimmäistä kertaa kaikille kaupunkilaisille avointa MARS-seminaarin puheohjelmaa to 12.2.2026 klo 17-19! Into Seinäjoen kaupunkikeskustan kehittäjä Johanna Rintamäki moderoi “Seinäjoki soi – Miten musiikki ja kulttuuri voivat elävöittää kaupunkikeskustaa?”-paneelin klo 17-18\, jossa ajankohtaiset asiantuntijavieraat pohtivat kaupunkikeskustan tilaa\, ja livemusiikin roolia keskustakehittämisessä. Paneelissa pääsevät ääneen pohjalaisen punk- ja DIY-kulttuurin sanansaattaja\, Lakeus Punk ry:n Jaakko Lehtolainen\, Tampereen kaupungin tapahtumapalveluista erityisasiantuntija Ilona Kyykoski\, jatkuvasti uudistuvien Tangomarkkinoiden toimitusjohtaja Pasi Ojala sekä osallistavaan ja kulttuurilähtöiseen kaupunkikehittämiseen erikoistuneen Studio Fieldin perustanut Moona Tikka. Paneelin summaa Seinäjoen kaupungin tapahtumatuottaja Susanna Lehtonurmi.\nPaneelin jälkeen klo 18 pääsemme kuulemaan\, kun hurmaava laulaja-lauluntekijä Liisa Akimof tunnelmoi Apilan lukuportaikossa. Tiedossa on poplyriikkaa\, diskoa\, rokkia ja jazzia laulajan soolokeikalla!\nMARSia järjestävät Into Seinäjoki\, Rytmi-instituutti\, Seinäjoen ammattikorkeakoulu\, Seinäjoen elävän musiikin yhdistys Selmu ry ja Taideyliopiston Seinäjoen yksikkö. Puheohjelmasta vastaa LiveFIN ry.Tutustu ohjelmaan\, rekisteröidy ja nappaa keikkaliput osoitteesta marsfestivaali.fi. 
LOCATION:Suomi
URL:http://tapahtumat.intoseinajoki.fi/mars2026
END:VEVENT
END:VCALENDAR
