BEGIN:VCALENDAR
METHOD:PUBLISH
VERSION:2.0
PRODID:-//Eventilla iCal Syndication//NONSGML Liana//EN
BEGIN:VEVENT
UID:xrZgO@eventilla.com
DTSTAMP:20210310T063000Z
DTSTART:20210310T063000Z
DTEND:20210310T073000Z
SUMMARY:Lisää buustia! Yritysten tarinoita eri rahoituksista -aamukahvit
DESCRIPTION:Lisää buustia liiketoimintaan? Julkiset rahoitusvaihtoehdot apuun?\nNäillä aamukahveilla yritykset kertovat omia kokemuksiaan siitä\, miten erilaiset rahoitusinstrumentit ovat olleet mahdollistamassa lisää buustia heidän matkalla. Millaista rahoituksen haku ja byrokratia on käytännössä ollut\, mutta ennen kaikkea mitä hyötyjä he ovat saaneet.\nOhjelma:\nAntti Savola\, Novice Oy (perustamistuki)\nJyrki Rauhala\, Neuvonta Rauhala Oy / SMedia (ELY:n kehittämispalvelut\, kasvu)\nTuomas Takala\, Metal Deco / Takalan Konepaja Oy (ELY:n kehittämispalvelut\, tuottavuus ja digitalisaatio)\nPasi Rajamäki\, Really Pronto Oy (ELY:n kehittämispalvelut\, innovaation kaupallistaminen)\nPaikalla on myös rahoittajien edustajia vastaamassa yleisökysymyksiin. \n \nTämä tilaisuus on sinulle\, joka\n\nhaluat kuulla rahoitusinstrumenteista ymmärrettävästi.\npohdit\, millainen pala purtavaksi julkinen rahoitus on yritykselle.\nolet yrittäjyyden matkalla tuore vasta-alkaja tai jo konkari.\nautat työssäsi yrittäjiä erilaisten rahoitusinstrumenttien kanssa ja haluat ajantasaista tietoa. \n\nHuomaathan\, että ilmoittautumislomakkeella voit lähettää kysymyksiä aiheesta jo ennakkoon. Pyrimme saamaan esitettyihin kysymyksiin vastauksia ohjelmasisällössämme. 
LOCATION:Teams-verkkotapahtuma
URL:http://tapahtumat.intoseinajoki.fi/rahoituskahvitosa1
END:VEVENT
END:VCALENDAR
